BEGIN:VCALENDAR
VERSION:2.0
PRODID:-//wp-events-plugin.com//7.2.3.1//EN
TZID:Europe/Berlin
X-WR-TIMEZONE:Europe/Berlin
BEGIN:VEVENT
UID:501@portal.kiv-thueringen.de
DTSTART;TZID=Europe/Berlin:20260528T090000
DTEND;TZID=Europe/Berlin:20260528T110000
DTSTAMP:20260303T060853Z
URL:https://portal.kiv-thueringen.de/web/veranstaltungen/interner-auditor-
 3/
SUMMARY:Interner Auditor
DESCRIPTION:Beschreibung:\n\nInterne Audits sind ein zentraler Bestandteil 
 jedes wirksamen ISMS – ihre Durchführung und Dokumentation sind unverzi
 chtbar\, um Sicherheit\, Qualität und Compliance dauerhaft sicherzustelle
 n. Damit diese Audits fachgerecht erfolgen\, benötigt jede Organisation e
 ine verantwortliche Person\, die über die passenden Kompetenzen verfügt 
 und die Auditprozesse souverän steuert.\n\nIn unserer Veranstaltung zeige
 n wir\, welche Voraussetzungen eine interner Verantwortlicher erfüllen so
 llte\, welche Aufgaben ihm übertragen werden und wie Audits professionell
  geplant\, vorbereitet\, durchgeführt und nachbereitet werden. Alle zentr
 alen Fragen rund um Rollen\, Anforderungen und praktische Umsetzung werden
  verständlich und praxisnah beantwortet.\n\nNach Abschluss der Veranstalt
 ung erhalten die Teilnehmenden ein Teilnahmezertifikat\, das die erworbene
 n Kenntnisse dokumentiert und die Qualifikation für interne Audits im Rah
 men eines ISMS nachweist.\n\n&nbsp\;\n\nHinweise:\n\nDie Kosten pro Person
  betragen 300\,00 EUR netto bzw. erfolgt die Berechnung über einen Vertra
 g IT-Sicherheitsbeauftragter werden 3 Stunden aus dem Kontingent verrechne
 t.\n\nMaximal können sich 20 Teilnehmer zu Veranstaltung anmelden. Die Ve
 ranstaltung findet nur statt\, wenn mindestens 4 Personen teilnehmen.\n\n&
 nbsp\;\n\nAnmeldeschluss ist der 13.05.2026.\n\n&nbsp\;\n\nStornobedingung
 en:\n\nEine Stornierung der Teilnahme ist bis 5 Werktage vor Seminarbeginn
  in schriftlicher Form an datenschutz@kiv-thueringen.de möglich.\n\nFür 
 kurzfristigere Ausfälle räumen wir Ihnen die Möglichkeit ein\, einen Er
 satzteilnehmer zu benennen.\n\nSicher haben Sie Verständnis dafür\, dass
  wir bei Absage außerhalb dieser Rahmenbedingungen oder Nichterscheinen d
 ie Gebühr in vollem Umfang berechnen müssen.\n\n&nbsp\;
CATEGORIES:Schulung
LOCATION:KIV Thüringen GmbH\, Ekhofplatz 2a\, Gotha\, Thüringen\, 99867\,
  Deutschland
GEO:50.949617;10.707484
X-APPLE-STRUCTURED-LOCATION;VALUE=URI;X-ADDRESS=Ekhofplatz 2a\, Gotha\, Th
 üringen\, 99867\, Deutschland;X-APPLE-RADIUS=100;X-TITLE=KIV Thüringen G
 mbH:geo:50.949617,10.707484
END:VEVENT
BEGIN:VTIMEZONE
TZID:Europe/Berlin
X-LIC-LOCATION:Europe/Berlin
BEGIN:DAYLIGHT
DTSTART:20260329T030000
TZOFFSETFROM:+0100
TZOFFSETTO:+0200
TZNAME:CEST
END:DAYLIGHT
END:VTIMEZONE
END:VCALENDAR