BEGIN:VCALENDAR
VERSION:2.0
PRODID:-//wp-events-plugin.com//7.2.3.1//EN
TZID:Europe/Berlin
X-WR-TIMEZONE:Europe/Berlin
BEGIN:VEVENT
UID:503@portal.kiv-thueringen.de
DTSTART;TZID=Europe/Berlin:20260428T093000
DTEND;TZID=Europe/Berlin:20260428T150000
DTSTAMP:20260424T065918Z
URL:https://portal.kiv-thueringen.de/web/veranstaltungen/schulung-hh-prodo
 ppik-huel-anordnungswesen/
SUMMARY:Schulung H&H proDoppik HÜL-Anordnungswesen
DESCRIPTION:Schulungsinhalte:\n\n 	Grundlagen Neuanwender\n 	Aufbau Anordnu
 ngsfenster\n 	Aufträge\n 	Buchungsarten\n 	Auswertungen\n\n&nbsp\;\n\nHin
 weis:\n\nMaximal können sich 20 Teilnehmer zu der Veranstaltung anmelden.
  Die Schulung findet ab 5 Teilnehmern statt.\n\nFür Verwaltungen mit „B
 etreuungsvertrag HKR“ beträgt die Teilnahmegebühr pro Person 198\,00 E
 uro netto (zzgl. 19% MwSt.). Für Verwaltungen ohne Betreuungsvertrag bere
 chnen wir pro Person 220\,00 Euro netto (zzgl. 19% MwSt.).\n\nAls Parkmög
 lichkeit in ca. 3 Gehminuten Entfernung steht Ihnen der Parkplatz (kostenp
 flichtig) am ehemaligen Busbahnhof Gotha zur Verfügung. (Mohrenstraße 18
  a in 99867 Gotha)\n\n&nbsp\;\n\nAnmeldeschluss ist der 27.04.2026.\n\n&nb
 sp\;\n\nStornobedingungen:\n\nEine Stornierung der Teilnahme ist bis 5 Wer
 ktage vor Seminarbeginn in schriftlicher Form an die angegebene Emailadres
 se möglich.\n\nFür kurzfristigere Ausfälle räumen wir Ihnen die Mögli
 chkeit ein\, einen Ersatzteilnehmer zu benennen.\n\nSicher haben Sie Verst
 ändnis dafür\, dass wir bei Absage außerhalb dieser Rahmenbedingungen o
 der Nichterscheinen die Gebühr in vollem Umfang berechnen müssen.
CATEGORIES:Schulung
LOCATION:KIV Thüringen GmbH\, Ekhofplatz 2a\, Gotha\, Thüringen\, 99867\,
  Deutschland
GEO:50.949617;10.707484
X-APPLE-STRUCTURED-LOCATION;VALUE=URI;X-ADDRESS=Ekhofplatz 2a\, Gotha\, Th
 üringen\, 99867\, Deutschland;X-APPLE-RADIUS=100;X-TITLE=KIV Thüringen G
 mbH:geo:50.949617,10.707484
END:VEVENT
BEGIN:VTIMEZONE
TZID:Europe/Berlin
X-LIC-LOCATION:Europe/Berlin
BEGIN:DAYLIGHT
DTSTART:20260329T030000
TZOFFSETFROM:+0100
TZOFFSETTO:+0200
TZNAME:CEST
END:DAYLIGHT
END:VTIMEZONE
END:VCALENDAR