BEGIN:VCALENDAR
VERSION:2.0
PRODID:-//wp-events-plugin.com//7.2.3.1//EN
TZID:Europe/Berlin
X-WR-TIMEZONE:Europe/Berlin
BEGIN:VEVENT
UID:511@portal.kiv-thueringen.de
DTSTART;TZID=Europe/Berlin:20260513T093000
DTEND;TZID=Europe/Berlin:20260513T150000
DTSTAMP:20260309T150927Z
URL:https://portal.kiv-thueringen.de/web/veranstaltungen/schulung-hh-prodo
 ppik-kameralistik-haushaltsplanung/
SUMMARY:Schulung H&H proDoppik Kameralistik - Haushaltsplanung
DESCRIPTION:Schulungsinhalte:\n\n 	Eröffnung Haushaltsjahr\n 	Stammdatenpf
 lege\n 	Eingabe Plandaten\n 	Auswertungen\n 	Druckausgaben\n\n&nbsp\;\n\nH
 inweis:\n\nMaximal können sich 20 Teilnehmer zu der Veranstaltung anmelde
 n. Die Schulung findet ab 5 Teilnehmern statt.\n\nFür Verwaltungen mit 
 „Betreuungsvertrag HKR“ beträgt die Teilnahmegebühr pro Person 198\,
 00 Euro netto (zzgl. 19% MwSt.). Für Verwaltungen ohne Betreuungsvertrag 
 berechnen wir pro Person 220\,00 Euro netto (zzgl. 19% MwSt.).\n\nAls Park
 möglichkeit in ca. 3 Gehminuten Entfernung steht Ihnen der Parkplatz (kos
 tenpflichtig) am ehemaligen Busbahnhof Gotha zur Verfügung. (Mohrenstraß
 e 18 a in 99867 Gotha)\n\n&nbsp\;\n\nAnmeldeschluss ist der 08.05.2026.\n\
 n&nbsp\;\n\nStornobedingungen:\n\nEine Stornierung der Teilnahme ist bis 5
  Werktage vor Seminarbeginn in schriftlicher Form an die angegebene Emaila
 dresse möglich.\n\nFür kurzfristigere Ausfälle räumen wir Ihnen die M
 öglichkeit ein\, einen Ersatzteilnehmer zu benennen.\n\nSicher haben Sie 
 Verständnis dafür\, dass wir bei Absage außerhalb dieser Rahmenbedingun
 gen oder Nichterscheinen die Gebühr in vollem Umfang berechnen müssen.
CATEGORIES:Schulung
LOCATION:KIV Thüringen GmbH\, Ekhofplatz 2a\, Gotha\, Thüringen\, 99867\,
  Deutschland
GEO:50.949617;10.707484
X-APPLE-STRUCTURED-LOCATION;VALUE=URI;X-ADDRESS=Ekhofplatz 2a\, Gotha\, Th
 üringen\, 99867\, Deutschland;X-APPLE-RADIUS=100;X-TITLE=KIV Thüringen G
 mbH:geo:50.949617,10.707484
END:VEVENT
BEGIN:VTIMEZONE
TZID:Europe/Berlin
X-LIC-LOCATION:Europe/Berlin
BEGIN:DAYLIGHT
DTSTART:20260329T030000
TZOFFSETFROM:+0100
TZOFFSETTO:+0200
TZNAME:CEST
END:DAYLIGHT
END:VTIMEZONE
END:VCALENDAR