BEGIN:VCALENDAR
VERSION:2.0
PRODID:-//wp-events-plugin.com//7.2.3.1//EN
TZID:Europe/Berlin
X-WR-TIMEZONE:Europe/Berlin
BEGIN:VEVENT
UID:509@portal.kiv-thueringen.de
DTSTART;TZID=Europe/Berlin:20260507T093000
DTEND;TZID=Europe/Berlin:20260507T150000
DTSTAMP:20260309T150203Z
URL:https://portal.kiv-thueringen.de/web/veranstaltungen/schulung-hh-prodo
 ppik-kasse-beitreibungen/
SUMMARY:Schulung H&H proDoppik Kasse - Beitreibungen
DESCRIPTION:Schulungsinhalte:\n\n 	Stammdaten\n 	Stapelverarbeitung\n 	Prü
 fung von offenen Posten\n\n&nbsp\;\n\nHinweis:\n\nMaximal können sich 20 
 Teilnehmer zu der Veranstaltung anmelden. Die Schulung findet ab 5 Teilneh
 mern statt.\n\nFür Verwaltungen mit „Betreuungsvertrag HKR“ beträgt 
 die Teilnahmegebühr pro Person 198\,00 Euro netto (zzgl. 19% MwSt.). Für
  Verwaltungen ohne Betreuungsvertrag berechnen wir pro Person 220\,00 Euro
  netto (zzgl. 19% MwSt.).\n\nAls Parkmöglichkeit in ca. 3 Gehminuten Entf
 ernung steht Ihnen der Parkplatz (kostenpflichtig) am ehemaligen Busbahnho
 f Gotha zur Verfügung. (Mohrenstraße 18 a in 99867 Gotha)\n\n&nbsp\;\n\n
 Anmeldeschluss ist der 30.04.2026.\n\n&nbsp\;\n\nStornobedingungen:\n\nEin
 e Stornierung der Teilnahme ist bis 5 Werktage vor Seminarbeginn in schrif
 tlicher Form an die angegebene Emailadresse möglich.\n\nFür kurzfristige
 re Ausfälle räumen wir Ihnen die Möglichkeit ein\, einen Ersatzteilnehm
 er zu benennen.\n\nSicher haben Sie Verständnis dafür\, dass wir bei Abs
 age außerhalb dieser Rahmenbedingungen oder Nichterscheinen die Gebühr i
 n vollem Umfang berechnen müssen.
CATEGORIES:Schulung
LOCATION:KIV Thüringen GmbH\, Ekhofplatz 2a\, Gotha\, Thüringen\, 99867\,
  Deutschland
GEO:50.949617;10.707484
X-APPLE-STRUCTURED-LOCATION;VALUE=URI;X-ADDRESS=Ekhofplatz 2a\, Gotha\, Th
 üringen\, 99867\, Deutschland;X-APPLE-RADIUS=100;X-TITLE=KIV Thüringen G
 mbH:geo:50.949617,10.707484
END:VEVENT
BEGIN:VTIMEZONE
TZID:Europe/Berlin
X-LIC-LOCATION:Europe/Berlin
BEGIN:DAYLIGHT
DTSTART:20260329T030000
TZOFFSETFROM:+0100
TZOFFSETTO:+0200
TZNAME:CEST
END:DAYLIGHT
END:VTIMEZONE
END:VCALENDAR