BEGIN:VCALENDAR
VERSION:2.0
PRODID:-//wp-events-plugin.com//7.2.3.1//EN
TZID:Europe/Berlin
X-WR-TIMEZONE:Europe/Berlin
BEGIN:VEVENT
UID:505@portal.kiv-thueringen.de
DTSTART;TZID=Europe/Berlin:20260416T093000
DTEND;TZID=Europe/Berlin:20260416T150000
DTSTAMP:20260413T133357Z
URL:https://portal.kiv-thueringen.de/web/veranstaltungen/schulung-hh-prodo
 ppik-kassenwesen/
SUMMARY:Schulung H&H proDoppik Kassenwesen
DESCRIPTION:Schulungsinhalte:\n\n 	\n\n 	Grundlagen Neuanwender\n 	Stammdat
 en\n 	Buchungsarten\n 	Zahlungsverkehr\n 	Tagesabschluss\n 	Auswertungen\n
 \n\n\n&nbsp\;\n\nHinweis:\n\nMaximal können sich 20 Teilnehmer zu der Ver
 anstaltung anmelden. Die Schulung findet ab 5 Teilnehmern statt.\n\nFür V
 erwaltungen mit „Betreuungsvertrag HKR“ beträgt die Teilnahmegebühr 
 pro Person 198\,00 Euro netto (zzgl. 19% MwSt.). Für Verwaltungen ohne Be
 treuungsvertrag berechnen wir pro Person 220\,00 Euro netto (zzgl. 19% MwS
 t.).\n\nAls Parkmöglichkeit in ca. 3 Gehminuten Entfernung steht Ihnen de
 r Parkplatz (kostenpflichtig) am ehemaligen Busbahnhof Gotha zur Verfügun
 g. (Mohrenstraße 18 a in 99867 Gotha)\n\n&nbsp\;\n\nAnmeldeschluss ist de
 r 14.04.2026.\n\n&nbsp\;\n\nStornobedingungen:\n\nEine Stornierung der Tei
 lnahme ist bis 5 Werktage vor Seminarbeginn in schriftlicher Form an die a
 ngegebene Emailadresse möglich.\n\nFür kurzfristigere Ausfälle räumen 
 wir Ihnen die Möglichkeit ein\, einen Ersatzteilnehmer zu benennen.\n\nSi
 cher haben Sie Verständnis dafür\, dass wir bei Absage außerhalb dieser
  Rahmenbedingungen oder Nichterscheinen die Gebühr in vollem Umfang berec
 hnen müssen.\n\n&nbsp\;
CATEGORIES:Schulung
LOCATION:KIV Thüringen GmbH\, Ekhofplatz 2a\, Gotha\, Thüringen\, 99867\,
  Deutschland
GEO:50.949617;10.707484
X-APPLE-STRUCTURED-LOCATION;VALUE=URI;X-ADDRESS=Ekhofplatz 2a\, Gotha\, Th
 üringen\, 99867\, Deutschland;X-APPLE-RADIUS=100;X-TITLE=KIV Thüringen G
 mbH:geo:50.949617,10.707484
END:VEVENT
BEGIN:VTIMEZONE
TZID:Europe/Berlin
X-LIC-LOCATION:Europe/Berlin
BEGIN:DAYLIGHT
DTSTART:20260329T030000
TZOFFSETFROM:+0100
TZOFFSETTO:+0200
TZNAME:CEST
END:DAYLIGHT
END:VTIMEZONE
END:VCALENDAR