BEGIN:VCALENDAR
VERSION:2.0
PRODID:-//wp-events-plugin.com//7.2.3.1//EN
TZID:Europe/Berlin
X-WR-TIMEZONE:Europe/Berlin
BEGIN:VEVENT
UID:510@portal.kiv-thueringen.de
DTSTART;TZID=Europe/Berlin:20260505T093000
DTEND;TZID=Europe/Berlin:20260505T153000
DTSTAMP:20260312T105316Z
URL:https://portal.kiv-thueringen.de/web/veranstaltungen/schulung-hh-prodo
 ppik-nutzerrechte/
SUMMARY:Schulung H&H proDoppik Nutzerrechte
DESCRIPTION:Schulungsinhalte:\n\n 	Nutzerrechte\n 	Gruppenrechte\n 	Auswert
 ungen\n\n&nbsp\;\n\nHinweis:\n\nMaximal können sich 20 Teilnehmer zu der 
 Veranstaltung anmelden. Die Schulung findet ab 5 Teilnehmern statt.\n\nFü
 r Verwaltungen mit „Betreuungsvertrag HKR“ beträgt die Teilnahmegebü
 hr pro Person 198\,00 Euro netto (zzgl. 19% MwSt.). Für Verwaltungen ohne
  Betreuungsvertrag berechnen wir pro Person 220\,00 Euro netto (zzgl. 19% 
 MwSt.).\n\nAls Parkmöglichkeit in ca. 3 Gehminuten Entfernung steht Ihnen
  der Parkplatz (kostenpflichtig) am ehemaligen Busbahnhof Gotha zur Verfü
 gung. (Mohrenstraße 18 a in 99867 Gotha)\n\n&nbsp\;\n\nAnmeldeschluss ist
  der 29.04.2026.\n\n&nbsp\;\n\nStornobedingungen:\n\nEine Stornierung der 
 Teilnahme ist bis 5 Werktage vor Seminarbeginn in schriftlicher Form an di
 e angegebene Emailadresse möglich.\n\nFür kurzfristigere Ausfälle räum
 en wir Ihnen die Möglichkeit ein\, einen Ersatzteilnehmer zu benennen.\n\
 nSicher haben Sie Verständnis dafür\, dass wir bei Absage außerhalb die
 ser Rahmenbedingungen oder Nichterscheinen die Gebühr in vollem Umfang be
 rechnen müssen.
CATEGORIES:Schulung
LOCATION:KIV Thüringen GmbH\, Ekhofplatz 2a\, Gotha\, Thüringen\, 99867\,
  Deutschland
GEO:50.949617;10.707484
X-APPLE-STRUCTURED-LOCATION;VALUE=URI;X-ADDRESS=Ekhofplatz 2a\, Gotha\, Th
 üringen\, 99867\, Deutschland;X-APPLE-RADIUS=100;X-TITLE=KIV Thüringen G
 mbH:geo:50.949617,10.707484
END:VEVENT
BEGIN:VTIMEZONE
TZID:Europe/Berlin
X-LIC-LOCATION:Europe/Berlin
BEGIN:DAYLIGHT
DTSTART:20260329T030000
TZOFFSETFROM:+0100
TZOFFSETTO:+0200
TZNAME:CEST
END:DAYLIGHT
END:VTIMEZONE
END:VCALENDAR