BEGIN:VCALENDAR
VERSION:2.0
PRODID:-//wp-events-plugin.com//7.2.3.1//EN
TZID:Europe/Berlin
X-WR-TIMEZONE:Europe/Berlin
BEGIN:VEVENT
UID:500@portal.kiv-thueringen.de
DTSTART;TZID=Europe/Berlin:20260924T090000
DTEND;TZID=Europe/Berlin:20260924T110000
DTSTAMP:20260303T060939Z
URL:https://portal.kiv-thueringen.de/web/veranstaltungen/webex-datenschutz
 -grundschulung-3/
SUMMARY:WebEx - Datenschutz - Grundschulung
DESCRIPTION:Beschreibung:\n\nSorgen Sie dafür\, dass Datenschutz in Ihrer 
 Organisation gelebt wird – ohne zusätzlichen Aufwand für Ihr Team.\nWi
 r übernehmen die Unterweisung Ihrer neuen Mitarbeitenden und bieten fortl
 aufend Nachschulungen an\, wenn interne Termine nicht wahrgenommen werden 
 können.\n\nUnsere Schulungen vermitteln die essenziellen Datenschutzgrund
 lagen und richten sich an alle Beschäftigten\, die mit sensiblen personen
 bezogenen Daten arbeiten. So bleibt Ihre Verwaltung jederzeit rechtskonfor
 m und bestens informiert.\n\n&nbsp\;\n\nHinweise:\n\nDie Kosten pro Person
  betragen 100\,00 EUR netto bzw. erfolgt die Berechnung über einen Vertra
 g Thema Datenschutz werden 1 Stunde aus dem Kontingent verrechnet.\n\nMaxi
 mal können sich 20 Teilnehmer zu der Veranstaltung anmelden. Die Veransta
 ltung findet nur statt\, wenn mindestens 5 Personen teilnehmen.\n\n&nbsp\;
 \n\nAnmeldeschluss ist der 10.09.2026.\n\n&nbsp\;\n\nNach Buchung der Schu
 lung erhalten Sie einen Zugangslink.\n\n&nbsp\;\n\nStornobedingungen:\n\nE
 ine Stornierung der Teilnahme ist bis 5 Werktage vor Seminarbeginn in schr
 iftlicher Form an datenschutz@kiv-thueringen.de möglich.\n\nFür kurzfris
 tigere Ausfälle räumen wir Ihnen die Möglichkeit ein\, einen Ersatzteil
 nehmer zu benennen.\n\nSicher haben Sie Verständnis dafür\, dass wir bei
  Absage außerhalb dieser Rahmenbedingungen oder Nichterscheinen die Gebü
 hr in vollem Umfang berechnen müssen.
CATEGORIES:Schulung,Webinar
LOCATION:Webex Online-Schulung\, Online\, Online\, Deutschland
X-APPLE-STRUCTURED-LOCATION;VALUE=URI;X-ADDRESS=Online\, Online\, Deutschla
 nd;X-APPLE-RADIUS=100;X-TITLE=Webex Online-Schulung:geo:0,0
END:VEVENT
BEGIN:VTIMEZONE
TZID:Europe/Berlin
X-LIC-LOCATION:Europe/Berlin
BEGIN:DAYLIGHT
DTSTART:20260329T030000
TZOFFSETFROM:+0100
TZOFFSETTO:+0200
TZNAME:CEST
END:DAYLIGHT
END:VTIMEZONE
END:VCALENDAR