BEGIN:VCALENDAR
VERSION:2.0
PRODID:-//wp-events-plugin.com//7.2.3.1//EN
TZID:Europe/Berlin
X-WR-TIMEZONE:Europe/Berlin
BEGIN:VEVENT
UID:502@portal.kiv-thueringen.de
DTSTART;TZID=Europe/Berlin:20261008T090000
DTEND;TZID=Europe/Berlin:20261008T110000
DTSTAMP:20260303T061001Z
URL:https://portal.kiv-thueringen.de/web/veranstaltungen/webex-interner-au
 ditor-2/
SUMMARY:Webex - Interner Auditor
DESCRIPTION:Beschreibung:\n\nInterne Audits sind ein zentraler Bestandteil 
 jedes wirksamen ISMS – ihre Durchführung und Dokumentation sind unverzi
 chtbar\, um Sicherheit\, Qualität und Compliance dauerhaft sicherzustelle
 n. Damit diese Audits fachgerecht erfolgen\, benötigt jede Organisation e
 ine verantwortliche Person\, die über die passenden Kompetenzen verfügt 
 und die Auditprozesse souverän steuert.\n\nIn unserer Veranstaltung zeige
 n wir\, welche Voraussetzungen eine interner Verantwortlicher erfüllen so
 llte\, welche Aufgaben ihm übertragen werden und wie Audits professionell
  geplant\, vorbereitet\, durchgeführt und nachbereitet werden. Alle zentr
 alen Fragen rund um Rollen\, Anforderungen und praktische Umsetzung werden
  verständlich und praxisnah beantwortet.\n\nNach Abschluss der Veranstalt
 ung erhalten die Teilnehmenden ein Teilnahmezertifikat\, das die erworbene
 n Kenntnisse dokumentiert und die Qualifikation für interne Audits im Rah
 men eines ISMS nachweist.\n\n&nbsp\;\n\n&nbsp\;\n\nHinweise:\n\nDie Kosten
  pro Person betragen 250\,00 EUR netto bzw. erfolgt die Berechnung über e
 inen Vertrag IT-Sicherheitsbeauftragter werden 2 Stunden aus dem Kontingen
 t verrechnet.\n\nMaximal können sich 20 Teilnehmer zu der Veranstaltung a
 nmelden. Die Veranstaltung findet nur statt\, wenn mindestens 3 Personen t
 eilnehmen.\n\n&nbsp\;\n\nAnmeldeschluss ist der 24.09.2026.\n\n&nbsp\;\n\n
 Nach Buchung der Schulung erhalten Sie einen Zugangslink.\n\n&nbsp\;\n\nSt
 ornobedingungen:\n\nEine Stornierung der Teilnahme ist bis 5 Werktage vor 
 Seminarbeginn in schriftlicher Form an datenschutz@kiv-thueringen.de mögl
 ich.\n\nFür kurzfristigere Ausfälle räumen wir Ihnen die Möglichkeit e
 in\, einen Ersatzteilnehmer zu benennen.\n\nSicher haben Sie Verständnis 
 dafür\, dass wir bei Absage außerhalb dieser Rahmenbedingungen oder Nich
 terscheinen die Gebühr in vollem Umfang berechnen müssen.\n\n&nbsp\;
CATEGORIES:Schulung,Webinar
LOCATION:Webex Online-Schulung\, Online\, Online\, Deutschland
X-APPLE-STRUCTURED-LOCATION;VALUE=URI;X-ADDRESS=Online\, Online\, Deutschla
 nd;X-APPLE-RADIUS=100;X-TITLE=Webex Online-Schulung:geo:0,0
END:VEVENT
BEGIN:VTIMEZONE
TZID:Europe/Berlin
X-LIC-LOCATION:Europe/Berlin
BEGIN:DAYLIGHT
DTSTART:20260329T030000
TZOFFSETFROM:+0100
TZOFFSETTO:+0200
TZNAME:CEST
END:DAYLIGHT
END:VTIMEZONE
END:VCALENDAR