BEGIN:VCALENDAR
VERSION:2.0
PRODID:-//wp-events-plugin.com//7.2.3.1//EN
TZID:Europe/Berlin
X-WR-TIMEZONE:Europe/Berlin
BEGIN:VEVENT
UID:507@portal.kiv-thueringen.de
DTSTART;TZID=Europe/Berlin:20260603T090000
DTEND;TZID=Europe/Berlin:20260603T120000
DTSTAMP:20260309T150453Z
URL:https://portal.kiv-thueringen.de/web/veranstaltungen/webex-schulung-hh
 -prodoppik-auffrischung-e-rechnung-2/
SUMMARY:WebEx - Schulung H&H proDoppik Auffrischung E-Rechnung
DESCRIPTION:Diese Schulung ist für Kunden\, die die E-Rechnung bereits ein
 setzen.\n\n&nbsp\;\n\nHinweise:\n\nMaximal können sich 20 Teilnehmer zu d
 er Veranstaltung anmelden. Die Schulung findet ab 5 Teilnehmern statt.\n\n
 Für Verwaltungen mit „Betreuungsvertrag HKR“ beträgt die Teilnahmege
 bühr pro Person 126\,00 Euro netto (zzgl. 19% MwSt.). Für Verwaltungen o
 hne Betreuungsvertrag berechnen wir pro Person 140\,00 Euro netto (zzgl. 1
 9% MwSt.).\n\nDer Link zum Login wird Ihnen rechtzeitig bekannt gegeben.\n
 \n&nbsp\;\n\nAnmeldeschluss ist der 29.05.2026.\n\n&nbsp\;\n\nStornobeding
 ungen:\n\nEine Stornierung der Teilnahme ist bis 5 Werktage vor Seminarbeg
 inn in schriftlicher Form an die angegebene Emailadresse möglich.\n\nFür
  kurzfristigere Ausfälle räumen wir Ihnen die Möglichkeit ein\, einen E
 rsatzteilnehmer zu benennen.\n\nSicher haben Sie Verständnis dafür\, das
 s wir bei Absage außerhalb dieser Rahmenbedingungen oder Nichterscheinen 
 die Gebühr in vollem Umfang berechnen müssen.
CATEGORIES:Online-Seminar,Schulung
LOCATION:Webex Online-Schulung\, Online\, Online\, Deutschland
X-APPLE-STRUCTURED-LOCATION;VALUE=URI;X-ADDRESS=Online\, Online\, Deutschla
 nd;X-APPLE-RADIUS=100;X-TITLE=Webex Online-Schulung:geo:0,0
END:VEVENT
BEGIN:VTIMEZONE
TZID:Europe/Berlin
X-LIC-LOCATION:Europe/Berlin
BEGIN:DAYLIGHT
DTSTART:20260329T030000
TZOFFSETFROM:+0100
TZOFFSETTO:+0200
TZNAME:CEST
END:DAYLIGHT
END:VTIMEZONE
END:VCALENDAR