BEGIN:VCALENDAR
VERSION:2.0
PRODID:-//wp-events-plugin.com//7.2.3.1//EN
TZID:Europe/Berlin
X-WR-TIMEZONE:Europe/Berlin
BEGIN:VEVENT
UID:519@portal.kiv-thueringen.de
DTSTART;TZID=Europe/Berlin:20260318T100000
DTEND;TZID=Europe/Berlin:20260318T120000
DTSTAMP:20260316T092419Z
URL:https://portal.kiv-thueringen.de/web/veranstaltungen/webex-schulung-hh
 -prodoppik-mitteilungsverordnung/
SUMMARY:WebEx - Schulung H&H proDoppik Mitteilungsverordnung
DESCRIPTION:Diese Veranstaltung wurde auf Grund geringer Teilnehmerzahl abg
 esagt und wird zu einem späteren Zeitpunkt erneut angeboten.\n\n&nbsp\;\n
 \nSchulungsinhalt:\n\n 	Datenerfassung und Auswertungen\n\n&nbsp\;\n\nHinw
 eise:\n\nMaximal können sich 20 Teilnehmer zu der Veranstaltung anmelden.
  Die Schulung findet ab 5 Teilnehmern statt.\n\nFür Verwaltungen mit „B
 etreuungsvertrag HKR“ beträgt die Teilnahmegebühr pro Person 126\,00 E
 uro netto (zzgl. 19% MwSt.). Für Verwaltungen ohne Betreuungsvertrag bere
 chnen wir pro Person 140\,00 Euro netto (zzgl. 19% MwSt.).\n\nDer Link zum
  Login wird Ihnen rechtzeitig bekannt gegeben.\n\n&nbsp\;\n\nAnmeldeschlus
 s ist der 16.03.2026.\n\n&nbsp\;\n\nStornobedingungen:\n\nEine Stornierung
  der Teilnahme ist bis 5 Werktage vor Seminarbeginn in schriftlicher Form 
 an die angegebene Emailadresse möglich.\n\nFür kurzfristigere Ausfälle 
 räumen wir Ihnen die Möglichkeit ein\, einen Ersatzteilnehmer zu benenne
 n.\n\nSicher haben Sie Verständnis dafür\, dass wir bei Absage außerhal
 b dieser Rahmenbedingungen oder Nichterscheinen die Gebühr in vollem Umfa
 ng berechnen müssen.
CATEGORIES:Online-Seminar,Schulung
LOCATION:Webex Online-Schulung\, Online\, Online\, Deutschland
X-APPLE-STRUCTURED-LOCATION;VALUE=URI;X-ADDRESS=Online\, Online\, Deutschla
 nd;X-APPLE-RADIUS=100;X-TITLE=Webex Online-Schulung:geo:0,0
END:VEVENT
BEGIN:VTIMEZONE
TZID:Europe/Berlin
X-LIC-LOCATION:Europe/Berlin
BEGIN:STANDARD
DTSTART:20251026T020000
TZOFFSETFROM:+0200
TZOFFSETTO:+0100
TZNAME:CET
END:STANDARD
END:VTIMEZONE
END:VCALENDAR