BEGIN:VCALENDAR
VERSION:2.0
PRODID:-//wp-events-plugin.com//7.2.3.1//EN
TZID:Europe/Berlin
X-WR-TIMEZONE:Europe/Berlin
BEGIN:VEVENT
UID:517@portal.kiv-thueringen.de
DTSTART;TZID=Europe/Berlin:20260506T090000
DTEND;TZID=Europe/Berlin:20260506T120000
DTSTAMP:20260312T111454Z
URL:https://portal.kiv-thueringen.de/web/veranstaltungen/webex-schulung-hh
 -prodoppik-umsatzsteuer/
SUMMARY:WebEx - Schulung H&H proDoppik Umsatzsteuer
DESCRIPTION:Schulungsinhalt:\n\n 	Datenerfassung und Auswertungen\n\n&nbsp\
 ;\n\nHinweise:\n\nMaximal können sich 20 Teilnehmer zu der Veranstaltung 
 anmelden. Die Schulung findet ab 5 Teilnehmern statt.\n\nFür Verwaltungen
  mit „Betreuungsvertrag HKR“ beträgt die Teilnahmegebühr pro Person 
 126\,00 Euro netto (zzgl. 19% MwSt.). Für Verwaltungen ohne Betreuungsver
 trag berechnen wir pro Person 140\,00 Euro netto (zzgl. 19% MwSt.).\n\nDer
  Link zum Login wird Ihnen rechtzeitig bekannt gegeben.\n\n&nbsp\;\n\nAnme
 ldeschluss ist der 30.04.2026.\n\n&nbsp\;\n\nStornobedingungen:\n\nEine St
 ornierung der Teilnahme ist bis 5 Werktage vor Seminarbeginn in schriftlic
 her Form an die angegebene Emailadresse möglich.\n\nFür kurzfristigere A
 usfälle räumen wir Ihnen die Möglichkeit ein\, einen Ersatzteilnehmer z
 u benennen.\n\nSicher haben Sie Verständnis dafür\, dass wir bei Absage 
 außerhalb dieser Rahmenbedingungen oder Nichterscheinen die Gebühr in vo
 llem Umfang berechnen müssen.
CATEGORIES:Online-Seminar,Schulung
LOCATION:Webex Online-Schulung\, Online\, Online\, Deutschland
X-APPLE-STRUCTURED-LOCATION;VALUE=URI;X-ADDRESS=Online\, Online\, Deutschla
 nd;X-APPLE-RADIUS=100;X-TITLE=Webex Online-Schulung:geo:0,0
END:VEVENT
BEGIN:VTIMEZONE
TZID:Europe/Berlin
X-LIC-LOCATION:Europe/Berlin
BEGIN:DAYLIGHT
DTSTART:20260329T030000
TZOFFSETFROM:+0100
TZOFFSETTO:+0200
TZNAME:CEST
END:DAYLIGHT
END:VTIMEZONE
END:VCALENDAR