BEGIN:VCALENDAR
VERSION:2.0
PRODID:-//wp-events-plugin.com//7.2.3.1//EN
TZID:Europe/Berlin
X-WR-TIMEZONE:Europe/Berlin
BEGIN:VEVENT
UID:516@portal.kiv-thueringen.de
DTSTART;TZID=Europe/Berlin:20260819T100000
DTEND;TZID=Europe/Berlin:20260819T120000
DTSTAMP:20260309T152333Z
URL:https://portal.kiv-thueringen.de/web/veranstaltungen/webex-schulung-hh
 -prodoppik-wunsch-und-wahlrecht-2/
SUMMARY:WebEx - Schulung H&H proDoppik Wunsch- und Wahlrecht
DESCRIPTION:Schulungsinhalt:\n\n 	Datenpflege und Eingabe im System H&amp\;
 H proDoppik\n\n&nbsp\;\n\nHinweise:\n\nMaximal können sich 20 Teilnehmer 
 zu der Veranstaltung anmelden. Die Schulung findet ab 5 Teilnehmern statt.
 \n\nFür Verwaltungen mit „Betreuungsvertrag HKR“ beträgt die Teilnah
 megebühr pro Person 100\,00 Euro netto (zzgl. 19% MwSt.). Für Verwaltung
 en ohne Betreuungsvertrag berechnen wir pro Person 110\,00 Euro netto (zzg
 l. 19% MwSt.).\n\nDer Link zum Login wird Ihnen rechtzeitig bekannt gegebe
 n.\n\n&nbsp\;\n\nAnmeldeschluss ist der 14.08.2026.\n\n&nbsp\;\n\nStornobe
 dingungen:\n\nEine Stornierung der Teilnahme ist bis 5 Werktage vor Semina
 rbeginn in schriftlicher Form an die angegebene Emailadresse möglich.\n\n
 Für kurzfristigere Ausfälle räumen wir Ihnen die Möglichkeit ein\, ein
 en Ersatzteilnehmer zu benennen.\n\nSicher haben Sie Verständnis dafür\,
  dass wir bei Absage außerhalb dieser Rahmenbedingungen oder Nichterschei
 nen die Gebühr in vollem Umfang berechnen müssen.
CATEGORIES:Online-Seminar,Schulung
LOCATION:Webex Online-Schulung\, Online\, Online\, Deutschland
X-APPLE-STRUCTURED-LOCATION;VALUE=URI;X-ADDRESS=Online\, Online\, Deutschla
 nd;X-APPLE-RADIUS=100;X-TITLE=Webex Online-Schulung:geo:0,0
END:VEVENT
BEGIN:VTIMEZONE
TZID:Europe/Berlin
X-LIC-LOCATION:Europe/Berlin
BEGIN:DAYLIGHT
DTSTART:20260329T030000
TZOFFSETFROM:+0100
TZOFFSETTO:+0200
TZNAME:CEST
END:DAYLIGHT
END:VTIMEZONE
END:VCALENDAR